BEGIN:VCALENDAR
VERSION:2.0
PRODID:-//DIGITAL FACTORY//EVENTS MAKER V1.6.14//EN
CALSCALE:GREGORIAN
BEGIN:VEVENT
DTEND:20180523T170000Z
UID:69eccdc4415c8
DTSTAMP:20260425T142052Z
CATEGORIES:Turnieje
LOCATION:Pole Golfowe Zawarcie Śląska 52, Gorzów Wielkopolski, lubuskie, 66-400, PL
DESCRIPTION:Lubuska Liga Golfa ma na celu promocję golfa w całym województwie. Turnieje rozgrywane będą na trzech polach golfowych: Kalinowe Pola Golf Course\, Przytok Golf &amp\; Resort i Pole Golfowe Zawarcie.    Zawodnicy biorący udział w rozgrywkach będą mieli przyznawane punkty za zajęte miejsca w poszczególnych turniejach (klucz przyznawania punktów wg regulaminu).    Zgłoszenia do turnieju przyjmowane są na polu\, na którym rozgrywane są dane zawody.    Regulamin    Tee time    Wyniki
URL;VALUE=URI:http://golfzawarcie.pl/eventy/event/lubuska-liga-golfa/
SUMMARY:Lubuska Liga Golfa - Pole Golfowe Zawarcie
DTSTART:20180523T140000Z
END:VEVENT
END:VCALENDAR
