BEGIN:VCALENDAR
VERSION:2.0
PRODID:-//DIGITAL FACTORY//EVENTS MAKER V1.6.14//EN
CALSCALE:GREGORIAN
BEGIN:VEVENT
DTEND:20200918
UID:69ea026d283ff
DTSTAMP:20260423T112845Z
CATEGORIES:Turnieje
DESCRIPTION:Mistrzostwa Juniorów Województwa Lubuskiego pod patronatem Marszałka Województwa Lubuskiego    Regulamin    Wyniki
URL;VALUE=URI:http://golfzawarcie.pl/eventy/event/mistrzostwa-juniorow-wojewodztwa-lubuskiego/
SUMMARY:Mistrzostwa Juniorów Województwa Lubuskiego
DTSTART:20200918
END:VEVENT
END:VCALENDAR
