BEGIN:VCALENDAR
VERSION:2.0
PRODID:-//DIGITAL FACTORY//EVENTS MAKER V1.6.14//EN
CALSCALE:GREGORIAN
BEGIN:VEVENT
DTEND:20180407
UID:69e4ca5cec2e6
DTSTAMP:20260419T122812Z
CATEGORIES:Dni Otwarte\,Turnieje
LOCATION:Pole Golfowe Zawarcie Śląska 52, Gorzów Wielkopolski, lubuskie, 66-400, PL
ORGANIZER;CN=Recepcja Pola Golfowego Zawarcie:MAILTO:http://biuro@golfzawarcie.pl
DESCRIPTION:Serdecznie zapraszamy do udziału w Dniu Otwartym na Polu Golfowym Zawarcie w Gorzowie Wlkp.    Już w najbliższą niedzielę\, tj. 8 kwietnia 2018 oficjalnie rozpoczniemy sezon golfowy. Dla golfistów będzie to okazja do sportowej rywalizacji\, a dla wszystkich przybyłych gości okazja do nauki gry w golfa :) W trakcie trwania turnieju na strzelnicy golfowej odbędzie się bezpłatna akademia\, która poprowadzą doświadczeni instruktorzy.    Zapraszamy do spróbowania swoich sił w tej dyscyplinie sportowej :) Zabierzcie ze sobą rodzinę i przyjaciół. Czekamy na Was w godzinach 11:00 - 15:00.    Szczegółowe informacje dla grających:  Regulamin Ogólny Turniejów  Regulamin szczegółowy    Tee time    Wyniki
URL;VALUE=URI:http://golfzawarcie.pl/eventy/event/otwarcie-sezonu/
SUMMARY:Otwarcie Sezonu
DTSTART:20180407
END:VEVENT
END:VCALENDAR
