BEGIN:VCALENDAR
VERSION:2.0
PRODID:-//DIGITAL FACTORY//EVENTS MAKER V1.6.14//EN
CALSCALE:GREGORIAN
BEGIN:VEVENT
DTEND:20210919
UID:69e4e15f3511c
DTSTAMP:20260419T140623Z
CATEGORIES:Turnieje
LOCATION:Pole Golfowe Zawarcie Śląska 52, Gorzów Wielkopolski, lubuskie, 66-400, PL
ORGANIZER;
DESCRIPTION:Otwarte Mistrzostwa Gorzowskiego Klubu Golfowego Zawarcie to wydarzenie\, którego nie można pominąć.    W ciągu dwóch dni trwania turnieju wyłonimy najlepszych z najlepszych spośród członków klubu. Zagraj i Ty i zdobądź tytuł Mistrza Klubu\, Mistrzyni Klubu lub Mistrza Klubu Seniorów oraz rywalizuj w trzech kategoriach HCP.    Szczegółowy regulamin TUTAJ.    Wspierają nas: S'portofino\, Smaczna Dieta\, Browar Witnica\, Bogi Golf\, Hanna Style\, Tomasz Migdal\, Salon Masażu i terapii Relaksacyjnych Grzegorz Kłak\, Miody Puszczy Barlineckiej Kołosowscy\, Toyota Stolarz\, Hiperbaria Barlinek. Dziękujemy!    TEE TIME
URL;VALUE=URI:http://golfzawarcie.pl/eventy/event/otwarte-mistrzostwa-gorzowskiego-klubu-golfowego-zawarcie-2/
SUMMARY:Otwarte Mistrzostwa Gorzowskiego Klubu Golfowego Zawarcie
DTSTART:20210917
END:VEVENT
END:VCALENDAR
