BEGIN:VCALENDAR
VERSION:2.0
PRODID:-//DIGITAL FACTORY//EVENTS MAKER V1.6.14//EN
CALSCALE:GREGORIAN
BEGIN:VEVENT
DTEND:20231014
UID:69e7486fde14c
DTSTAMP:20260421T095039Z
CATEGORIES:Turnieje
LOCATION:Pole Golfowe Zawarcie Śląska 52, Gorzów Wielkopolski, lubuskie, 66-400, PL
ORGANIZER;CN=Recepcja Pola Golfowego Zawarcie:MAILTO:http://biuro@golfzawarcie.pl
DESCRIPTION:
URL;VALUE=URI:http://golfzawarcie.pl/eventy/event/turniej-grzanca-2/
SUMMARY:Turniej Grzańca
DTSTART:20231014
END:VEVENT
END:VCALENDAR
