BEGIN:VCALENDAR
VERSION:2.0
PRODID:-//DIGITAL FACTORY//EVENTS MAKER V1.6.14//EN
CALSCALE:GREGORIAN
BEGIN:VEVENT
DTEND:20180203T180000Z
UID:69e4e194ab554
DTSTAMP:20260419T140716Z
CATEGORIES:Spotkania
LOCATION:Pole Golfowe Zawarcie Śląska 52, Gorzów Wielkopolski, lubuskie, 66-400, PL
ORGANIZER;
DESCRIPTION:Szanowni Państwo\,      Zarząd Gorzowskiego Klubu Golfowego ZAWARCIE zaprasza wszystkich Członków Klubu GKGZ na Zwyczajne Walne Zebranie Sprawozdawcze\, które odbędzie się w sobotę 3 lutego 2018 roku o godzinie 17.00 w budynku klubowym Pola Golfowego Zawarcie przy ulicy Śląskiej 52 w Gorzowie Wielkopolskim.    Zebranie będzie miało charakter sprawozdawczy z działalności naszego Stowarzyszenia oraz Zarządu Klubu\, w tym zatwierdzenie RZiS oraz Bilansu Klubu za rok 2017.    Przewidywany Porządek Obrad Zwyczajnego Walnego Zebrania Sprawozdawczo – Statutowego Członków GKGZ:           	Przywitanie zebranych   	Wybór Przewodniczącego Walnego Zgromadzenia i sekretarza   	Zatwierdzenie porządku i regulaminu obrad   	Wybór Komisji Skrutacyjnej   	Sprawozdanie Prezesa GKGZ za okres od Walnego Zgromadzenia w 2017 roku   	Sprawozdanie bilansów (finansowych) rocznych GKGZ za 2017 rok   	Sprawozdanie Komisji Rewizyjnej   	Omówienie budżetu i planów na 2018 rok   	Podjęcie uchwał   	Wolne wnioski\, dyskusja   	Głosowania   	Zakończenie obrad        W przypadku braku wymaganego kworum zwołuje się zebranie w drugim terminie tj. w sobotę 3 lutego 2018 roku o godzinie 17.30 w budynku klubowym Pola Golfowego Zawarcie przy ulicy Śląskiej 52 w Gorzowie Wielkopolskim.    Prosimy o przekazywanie powyższej informacji zainteresowanym osobom.  W przypadku pytań lub wątpliwości prosimy o kontakt z recepcją Pola Golfowego pod numerem telefonu 603630710.            Zarząd GKGZ
URL;VALUE=URI:http://golfzawarcie.pl/eventy/event/walne-zebranie-czlonkow-gorzowskiego-klubu-golfowego-zawarcie/
SUMMARY:Walne Zebranie członków Gorzowskiego Klubu Golfowego Zawarcie
DTSTART:20180203T160000Z
END:VEVENT
END:VCALENDAR
