BEGIN:VCALENDAR
VERSION:2.0
PRODID:-//DIGITAL FACTORY//EVENTS MAKER V1.6.14//EN
CALSCALE:GREGORIAN
BEGIN:VEVENT
DTEND:20190623
UID:69e5e2f6617d8
DTSTAMP:20260420T082526Z
CATEGORIES:Turnieje
LOCATION:Pole Golfowe Zawarcie Śląska 52, Gorzów Wielkopolski, lubuskie, 66-400, PL
ORGANIZER;CN=Recepcja Pola Golfowego Zawarcie:MAILTO:http://biuro@golfzawarcie.pl
DESCRIPTION:Zapraszamy na Otwarte Mistrzostwa Gorzowskiego Klubu Golfowego Zawarcie na Polu Golfowym Zawarcie w Gorzowie Wlkp.    Dwudniowe zmagania 22-23 czerwca 2019 wyłonią Mistrzów w następujących kategoriach:    Strokeplay brutto mężczyzn - Mistrz Klubu - voucher do pro-shopu\, voucher do salonu masażu Grzegorza Kłaka\, akcesoria golfowe od Bogi Golf\, I i II Vicemistrz - voucher do pro-shopu\, voucher do salonu masażu Grzegorza Kłaka    Strokeplay brutto kobiet - Mistrzyni Klubu - voucher do pro-shopu\, voucher do salonu masażu Grzegorza Kłaka\, voucher do Ulton Cooking Academy na warsztaty kulinarne\, akcesoria golfowe od Bogi Golf\, szampan\, I i II Vicemistrzyni - voucher do pro-shopu\, voucher do salonu masażu Grzegorza Kłaka\, szampan    Strokeplay brutto juniorów - Mistrz Juniorów - voucher do pro-shopu i do Wakepark Gorzów\, I i II Vicemistrz - vouchery do pro-shopu    Strokeplay netto w kategorii HCP 0 - 18\,0 oraz 18\,1 - 36\,0 - Mistrzowie Klubu Netto - miejsca od I do V w obu kategoriach nagradzamy voucherami do pro-shopu oraz pakietami Practice Day na Polu Golfowym Zawarcie    Strokeplay brutto w kat. open - Mistrz Klubu Open - członkostwo roczne na Polu Golfowym Zawarcie na rok 2020\, I Vicemistrz Klubu Open - pakiet 10 jednorazowych green fee\, II Vicemistrz Klubu Open - pakiet 5 jednorazowych green fee    W pierwszy dzień Mistrzostw rozegramy konkurs Nearest to the pin na dołku # 4\, a w drugi dzień konkurs Longest drive na dołku # 6\, w których do wygrania będą nagrody od Bogi Golf.    Zapraszamy do zapisów w recepcji klubu pod numerem 603 630 710 lub przez formularz zgłoszeniowy PZG.    Szczegóły w regulaminie poniżej.    REGULAMIN    Tee time - dzień drugi    Mistrzowie Klubu    Mistrzynie Klubu    Mistrzowie Juniorów    Mistrzowie Open    Mistrzowie Klubu Netto HCP 0 - 18\,0    Mistrzowie Klubu Netto HCP 18\,1 - 36\,0
URL;VALUE=URI:https://golfzawarcie.pl/eventy/event/mistrzostwa-gorzowskiego-klubu-golfowego-zawarcie-2/
SUMMARY:Mistrzostwa Gorzowskiego Klubu Golfowego Zawarcie
DTSTART:20190621
END:VEVENT
END:VCALENDAR
